BEGIN:VCALENDAR
VERSION:2.0
PRODID:-//Village of Mannsville - ECPv6.15.20//NONSGML v1.0//EN
CALSCALE:GREGORIAN
METHOD:PUBLISH
X-WR-CALNAME:Village of Mannsville
X-ORIGINAL-URL:https://www.villageofmannsville.com
X-WR-CALDESC:Events for Village of Mannsville
REFRESH-INTERVAL;VALUE=DURATION:PT1H
X-Robots-Tag:noindex
X-PUBLISHED-TTL:PT1H
BEGIN:VTIMEZONE
TZID:UTC
BEGIN:STANDARD
TZOFFSETFROM:+0000
TZOFFSETTO:+0000
TZNAME:UTC
DTSTART:20240101T000000
END:STANDARD
END:VTIMEZONE
BEGIN:VEVENT
DTSTART;TZID=UTC:20251127T080000
DTEND;TZID=UTC:20251128T170000
DTSTAMP:20260424T013646
CREATED:20251103T175953Z
LAST-MODIFIED:20251103T175955Z
UID:987-1764230400-1764349200@www.villageofmannsville.com
SUMMARY:Closed for Thanksgiving
DESCRIPTION:
URL:https://www.villageofmannsville.com/event/closed-for-thanksgiving-3/
END:VEVENT
END:VCALENDAR