BEGIN:VCALENDAR
VERSION:2.0
PRODID:-//Village of Mannsville - ECPv6.15.20//NONSGML v1.0//EN
CALSCALE:GREGORIAN
METHOD:PUBLISH
X-WR-CALNAME:Village of Mannsville
X-ORIGINAL-URL:https://www.villageofmannsville.com
X-WR-CALDESC:Events for Village of Mannsville
REFRESH-INTERVAL;VALUE=DURATION:PT1H
X-Robots-Tag:noindex
X-PUBLISHED-TTL:PT1H
BEGIN:VTIMEZONE
TZID:UTC
BEGIN:STANDARD
TZOFFSETFROM:+0000
TZOFFSETTO:+0000
TZNAME:UTC
DTSTART:20250101T000000
END:STANDARD
END:VTIMEZONE
BEGIN:VEVENT
DTSTART;TZID=UTC:20260119T080000
DTEND;TZID=UTC:20260119T170000
DTSTAMP:20260423T231540
CREATED:20260115T155250Z
LAST-MODIFIED:20260115T155252Z
UID:1000-1768809600-1768842000@www.villageofmannsville.com
SUMMARY:Office Closed
DESCRIPTION:Martin Luther King day
URL:https://www.villageofmannsville.com/event/office-closed-9/
END:VEVENT
END:VCALENDAR