BEGIN:VCALENDAR
VERSION:2.0
PRODID:-//Village of Mannsville - ECPv6.15.20//NONSGML v1.0//EN
CALSCALE:GREGORIAN
METHOD:PUBLISH
X-WR-CALNAME:Village of Mannsville
X-ORIGINAL-URL:https://www.villageofmannsville.com
X-WR-CALDESC:Events for Village of Mannsville
REFRESH-INTERVAL;VALUE=DURATION:PT1H
X-Robots-Tag:noindex
X-PUBLISHED-TTL:PT1H
BEGIN:VTIMEZONE
TZID:UTC
BEGIN:STANDARD
TZOFFSETFROM:+0000
TZOFFSETTO:+0000
TZNAME:UTC
DTSTART:20250101T000000
END:STANDARD
END:VTIMEZONE
BEGIN:VEVENT
DTSTART;TZID=UTC:20260318T180000
DTEND;TZID=UTC:20260318T183000
DTSTAMP:20260423T203513
CREATED:20260305T173359Z
LAST-MODIFIED:20260305T173401Z
UID:1017-1773856800-1773858600@www.villageofmannsville.com
SUMMARY:Public Budget Hearing
DESCRIPTION:This the public hearing for the 2026-2027 Village of Mannsville Proposed Budget.
URL:https://www.villageofmannsville.com/event/public-budget-hearing/
END:VEVENT
END:VCALENDAR