BEGIN:VCALENDAR
VERSION:2.0
PRODID:-//Village of Mannsville - ECPv6.15.20//NONSGML v1.0//EN
CALSCALE:GREGORIAN
METHOD:PUBLISH
X-ORIGINAL-URL:https://www.villageofmannsville.com
X-WR-CALDESC:Events for Village of Mannsville
REFRESH-INTERVAL;VALUE=DURATION:PT1H
X-Robots-Tag:noindex
X-PUBLISHED-TTL:PT1H
BEGIN:VTIMEZONE
TZID:UTC
BEGIN:STANDARD
TZOFFSETFROM:+0000
TZOFFSETTO:+0000
TZNAME:UTC
DTSTART:20250101T000000
END:STANDARD
END:VTIMEZONE
BEGIN:VEVENT
DTSTART;TZID=UTC:20260216T080000
DTEND;TZID=UTC:20260216T170000
DTSTAMP:20260423T215446
CREATED:20260212T165202Z
LAST-MODIFIED:20260212T165204Z
UID:1002-1771228800-1771261200@www.villageofmannsville.com
SUMMARY:Office Closed
DESCRIPTION:President’s Day
URL:https://www.villageofmannsville.com/event/office-closed-10/
END:VEVENT
BEGIN:VEVENT
DTSTART;TZID=UTC:20260318T180000
DTEND;TZID=UTC:20260318T183000
DTSTAMP:20260423T215446
CREATED:20260305T173359Z
LAST-MODIFIED:20260305T173401Z
UID:1017-1773856800-1773858600@www.villageofmannsville.com
SUMMARY:Public Budget Hearing
DESCRIPTION:This the public hearing for the 2026-2027 Village of Mannsville Proposed Budget.
URL:https://www.villageofmannsville.com/event/public-budget-hearing/
END:VEVENT
BEGIN:VEVENT
DTSTART;TZID=UTC:20260509T100000
DTEND;TZID=UTC:20260509T150000
DTSTAMP:20260423T215446
CREATED:20260305T151707Z
LAST-MODIFIED:20260305T151709Z
UID:1015-1778320800-1778338800@www.villageofmannsville.com
SUMMARY:Mannsville Lilac Festival
DESCRIPTION:Join us for the 3rd Annual Mannsville Lilac Festival
URL:https://www.villageofmannsville.com/event/mannsville-lilac-festival-3/
END:VEVENT
END:VCALENDAR