BEGIN:VCALENDAR
VERSION:2.0
PRODID:-//Village of Mannsville - ECPv6.15.20//NONSGML v1.0//EN
CALSCALE:GREGORIAN
METHOD:PUBLISH
X-WR-CALNAME:Village of Mannsville
X-ORIGINAL-URL:https://www.villageofmannsville.com
X-WR-CALDESC:Events for Village of Mannsville
REFRESH-INTERVAL;VALUE=DURATION:PT1H
X-Robots-Tag:noindex
X-PUBLISHED-TTL:PT1H
BEGIN:VTIMEZONE
TZID:UTC
BEGIN:STANDARD
TZOFFSETFROM:+0000
TZOFFSETTO:+0000
TZNAME:UTC
DTSTART:20220101T000000
END:STANDARD
END:VTIMEZONE
BEGIN:VEVENT
DTSTART;TZID=UTC:20250217T080000
DTEND;TZID=UTC:20250217T170000
DTSTAMP:20260423T205357
CREATED:20250131T164807Z
LAST-MODIFIED:20250131T164809Z
UID:922-1739779200-1739811600@www.villageofmannsville.com
SUMMARY:Office Closed for Presidents Day
DESCRIPTION:
URL:https://www.villageofmannsville.com/event/office-closed-for-presidents-day-2/
END:VEVENT
BEGIN:VEVENT
DTSTART;TZID=UTC:20250211T190000
DTEND;TZID=UTC:20250211T193000
DTSTAMP:20260423T205357
CREATED:20250131T164622Z
LAST-MODIFIED:20250131T164624Z
UID:916-1739300400-1739302200@www.villageofmannsville.com
SUMMARY:February Board Meeting
DESCRIPTION:
URL:https://www.villageofmannsville.com/event/february-board-meeting/
END:VEVENT
BEGIN:VEVENT
DTSTART;TZID=UTC:20250120T080000
DTEND;TZID=UTC:20250120T170000
DTSTAMP:20260423T205357
CREATED:20250116T172705Z
LAST-MODIFIED:20250116T172708Z
UID:906-1737360000-1737392400@www.villageofmannsville.com
SUMMARY:Office Closed
DESCRIPTION:Martin Luther King Jr Day
URL:https://www.villageofmannsville.com/event/office-closed-5/
END:VEVENT
BEGIN:VEVENT
DTSTART;TZID=UTC:20241224T080000
DTEND;TZID=UTC:20241227T170000
DTSTAMP:20260423T205357
CREATED:20241112T162921Z
LAST-MODIFIED:20241112T162924Z
UID:890-1735027200-1735318800@www.villageofmannsville.com
SUMMARY:Closed for Christmas
DESCRIPTION:Office will be closed from Tuesday December 24- through Friday December 27. Please email the office if you need anything. Paula will have access to the emails while out of the office.
URL:https://www.villageofmannsville.com/event/closed-for-christmas/
END:VEVENT
BEGIN:VEVENT
DTSTART;TZID=UTC:20241130T160000
DTEND;TZID=UTC:20241130T180000
DTSTAMP:20260423T205357
CREATED:20241025T143914Z
LAST-MODIFIED:20241025T143917Z
UID:881-1732982400-1732989600@www.villageofmannsville.com
SUMMARY:Christmas Celebration
DESCRIPTION:Christmas Celebration at the Firehall starting at 4 pm. Santa will be there  as well as food\, drinks and treats. Hayride at 5 & 5:30. Caroling and tree lighting in the park at 6pm.
URL:https://www.villageofmannsville.com/event/christmas-celebration/
END:VEVENT
BEGIN:VEVENT
DTSTART;TZID=UTC:20241127T080000
DTEND;TZID=UTC:20241129T170000
DTSTAMP:20260423T205357
CREATED:20241004T141925Z
LAST-MODIFIED:20241004T141927Z
UID:878-1732694400-1732899600@www.villageofmannsville.com
SUMMARY:Office Closed- Thanksgiving
DESCRIPTION:
URL:https://www.villageofmannsville.com/event/office-closed-thanksgiving/
END:VEVENT
BEGIN:VEVENT
DTSTART;TZID=UTC:20241111T080000
DTEND;TZID=UTC:20241111T170000
DTSTAMP:20260423T205357
CREATED:20241004T141837Z
LAST-MODIFIED:20241004T141841Z
UID:876-1731312000-1731344400@www.villageofmannsville.com
SUMMARY:Office Closed-Veterans Day
DESCRIPTION:
URL:https://www.villageofmannsville.com/event/office-closed-veterans-day/
END:VEVENT
BEGIN:VEVENT
DTSTART;TZID=UTC:20241108T080000
DTEND;TZID=UTC:20241108T170000
DTSTAMP:20260423T205357
CREATED:20241031T144237Z
LAST-MODIFIED:20241031T144241Z
UID:886-1731052800-1731085200@www.villageofmannsville.com
SUMMARY:Office Closed
DESCRIPTION:
URL:https://www.villageofmannsville.com/event/office-closed-4/
END:VEVENT
BEGIN:VEVENT
DTSTART;TZID=UTC:20241014T080000
DTEND;TZID=UTC:20241014T170000
DTSTAMP:20260423T205357
CREATED:20241004T141803Z
LAST-MODIFIED:20241004T141806Z
UID:874-1728892800-1728925200@www.villageofmannsville.com
SUMMARY:Office Closed
DESCRIPTION:
URL:https://www.villageofmannsville.com/event/office-closed-3/
END:VEVENT
BEGIN:VEVENT
DTSTART;TZID=UTC:20240916T080000
DTEND;TZID=UTC:20240920T170000
DTSTAMP:20260423T205357
CREATED:20240806T154421Z
LAST-MODIFIED:20240806T154424Z
UID:862-1726473600-1726851600@www.villageofmannsville.com
SUMMARY:Office Closed- NYCOM training
DESCRIPTION:Paula and Sarah will be at the NYCOM training so the office will be closed. Please send an email if you need to get in contact with the office.
URL:https://www.villageofmannsville.com/event/office-closed-nycom-training/
END:VEVENT
BEGIN:VEVENT
DTSTART;TZID=UTC:20240910T190000
DTEND;TZID=UTC:20240910T193000
DTSTAMP:20260423T205357
CREATED:20240815T130912Z
LAST-MODIFIED:20240815T130916Z
UID:865-1725994800-1725996600@www.villageofmannsville.com
SUMMARY:September Meeting Moved
DESCRIPTION:The September board meeting is being moved from September 3rd to September 10.
URL:https://www.villageofmannsville.com/event/september-meeting-moved/
END:VEVENT
BEGIN:VEVENT
DTSTART;TZID=UTC:20240902T080000
DTEND;TZID=UTC:20240902T170000
DTSTAMP:20260423T205357
CREATED:20240806T154301Z
LAST-MODIFIED:20240806T154304Z
UID:860-1725264000-1725296400@www.villageofmannsville.com
SUMMARY:Labor Day - office closed
DESCRIPTION:
URL:https://www.villageofmannsville.com/event/labor-day-office-closed/
END:VEVENT
BEGIN:VEVENT
DTSTART;TZID=UTC:20240819T080000
DTEND;TZID=UTC:20240819T170000
DTSTAMP:20260423T205357
CREATED:20240806T154216Z
LAST-MODIFIED:20240806T154218Z
UID:858-1724054400-1724086800@www.villageofmannsville.com
SUMMARY:Flushing Hydrants
DESCRIPTION:
URL:https://www.villageofmannsville.com/event/flushing-hydrants/
END:VEVENT
BEGIN:VEVENT
DTSTART;TZID=UTC:20240703T080000
DTEND;TZID=UTC:20240705T170000
DTSTAMP:20260423T205357
CREATED:20240610T130538Z
LAST-MODIFIED:20240610T130541Z
UID:826-1719993600-1720198800@www.villageofmannsville.com
SUMMARY:Office Closed
DESCRIPTION:Office will be closed July 3rd (Wednesday-normal day closed)\, July 4th (Thursday-for fourth of July) and July 5th (Friday-to allow our employees to celebrate fourth of July with family). We will be back in the office July 8th.
URL:https://www.villageofmannsville.com/event/office-closed-2/
END:VEVENT
BEGIN:VEVENT
DTSTART;TZID=UTC:20240626T180000
DTEND;TZID=UTC:20240626T190000
DTSTAMP:20260423T205357
CREATED:20240604T162233Z
LAST-MODIFIED:20240604T162237Z
UID:819-1719424800-1719428400@www.villageofmannsville.com
SUMMARY:Maplewood Cemetary Association Meeting
DESCRIPTION:The Annual Lot Owners meeting will be held Wednesday June 26\, 2024 at 6pm at the Mannsville Manor Fire Department. The Annual meeting of the Board of Trustees will immediately follow.  \n\n\n\nAny questions\, please reach out to Charlie Graves.
URL:https://www.villageofmannsville.com/event/maplewood-cemetary-association-meeting/
END:VEVENT
BEGIN:VEVENT
DTSTART;TZID=UTC:20240527T080000
DTEND;TZID=UTC:20240527T170000
DTSTAMP:20260423T205357
CREATED:20240521T155943Z
LAST-MODIFIED:20240521T155946Z
UID:816-1716796800-1716829200@www.villageofmannsville.com
SUMMARY:Memorial Day
DESCRIPTION:Office Closed
URL:https://www.villageofmannsville.com/event/memorial-day-2/
END:VEVENT
BEGIN:VEVENT
DTSTART;TZID=UTC:20240523T080000
DTEND;TZID=UTC:20240523T170000
DTSTAMP:20260423T205357
CREATED:20240521T155905Z
LAST-MODIFIED:20240521T155907Z
UID:814-1716451200-1716483600@www.villageofmannsville.com
SUMMARY:Office closing at 12 pm
DESCRIPTION:
URL:https://www.villageofmannsville.com/event/office-closing-at-12-pm/
END:VEVENT
BEGIN:VEVENT
DTSTART;TZID=UTC:20240511T100000
DTEND;TZID=UTC:20240511T150000
DTSTAMP:20260423T205357
CREATED:20240215T182537Z
LAST-MODIFIED:20240215T182539Z
UID:767-1715421600-1715439600@www.villageofmannsville.com
SUMMARY:Mannsville Lilac Festival
DESCRIPTION:
URL:https://www.villageofmannsville.com/event/mannsville-lilac-festival/
END:VEVENT
BEGIN:VEVENT
DTSTART;TZID=UTC:20240504T090000
DTEND;TZID=UTC:20240504T170000
DTSTAMP:20260423T205357
CREATED:20240328T163340Z
LAST-MODIFIED:20240328T163343Z
UID:786-1714813200-1714842000@www.villageofmannsville.com
SUMMARY:Cemetery Clean-up day
DESCRIPTION:Maplewood Cemetery is looking for volunteers to come help clean-up the cemetery on May 4th starting at 9am. Please contact Charlie Graves for more information.
URL:https://www.villageofmannsville.com/event/cemetery-clean-up-day/
END:VEVENT
BEGIN:VEVENT
DTSTART;TZID=UTC:20240325T180000
DTEND;TZID=UTC:20240325T200000
DTSTAMP:20260423T205357
CREATED:20240319T123951Z
LAST-MODIFIED:20240319T123953Z
UID:783-1711389600-1711396800@www.villageofmannsville.com
SUMMARY:Budget Meeting
DESCRIPTION:This is an open meeting to the public. The Board of Trustees will go over the 2024-2025 proposed budget.
URL:https://www.villageofmannsville.com/event/budget-meeting/
END:VEVENT
BEGIN:VEVENT
DTSTART;TZID=UTC:20240318T080000
DTEND;TZID=UTC:20240318T120000
DTSTAMP:20260423T205357
CREATED:20240315T162004Z
LAST-MODIFIED:20240315T162006Z
UID:780-1710748800-1710763200@www.villageofmannsville.com
SUMMARY:Office Closed Monday Morning
DESCRIPTION:Limited hours on Monday March 18th. We will be open from 12 pm – 2 pm
URL:https://www.villageofmannsville.com/event/office-closed-monday-morning/
END:VEVENT
BEGIN:VEVENT
DTSTART;TZID=UTC:20240219T090000
DTEND;TZID=UTC:20240219T140000
DTSTAMP:20260423T205357
CREATED:20240215T171924Z
LAST-MODIFIED:20240215T171925Z
UID:765-1708333200-1708351200@www.villageofmannsville.com
SUMMARY:Office Closed for Presidents' Day
DESCRIPTION:
URL:https://www.villageofmannsville.com/event/office-closed-for-presidents-day/
END:VEVENT
BEGIN:VEVENT
DTSTART;TZID=UTC:20231202T160000
DTEND;TZID=UTC:20231202T183000
DTSTAMP:20260423T205357
CREATED:20231010T172805Z
LAST-MODIFIED:20231010T172806Z
UID:731-1701532800-1701541800@www.villageofmannsville.com
SUMMARY:2023 Christmas Celebration
DESCRIPTION:
URL:https://www.villageofmannsville.com/event/2023-christmas-celebration/
END:VEVENT
BEGIN:VEVENT
DTSTART;TZID=UTC:20231123T080000
DTEND;TZID=UTC:20231124T170000
DTSTAMP:20260423T205357
CREATED:20231010T172709Z
LAST-MODIFIED:20231010T172711Z
UID:729-1700726400-1700845200@www.villageofmannsville.com
SUMMARY:Closed for Thanksgiving
DESCRIPTION:
URL:https://www.villageofmannsville.com/event/closed-for-thanksgiving-2/
END:VEVENT
BEGIN:VEVENT
DTSTART;TZID=UTC:20231110T080000
DTEND;TZID=UTC:20231110T170000
DTSTAMP:20260423T205357
CREATED:20231109T170756Z
LAST-MODIFIED:20231109T170850Z
UID:742-1699603200-1699635600@www.villageofmannsville.com
SUMMARY:Closed for Veteran's Day
DESCRIPTION:Village Office will be closed 11/10/2023 for Veteran’s Day
URL:https://www.villageofmannsville.com/event/742/
END:VEVENT
BEGIN:VEVENT
DTSTART;TZID=UTC:20231103T080000
DTEND;TZID=UTC:20231103T170000
DTSTAMP:20260423T205357
CREATED:20231010T172634Z
LAST-MODIFIED:20231010T172637Z
UID:727-1698998400-1699030800@www.villageofmannsville.com
SUMMARY:Closed
DESCRIPTION:Office closed
URL:https://www.villageofmannsville.com/event/closed/
END:VEVENT
BEGIN:VEVENT
DTSTART;TZID=UTC:20231010T080000
DTEND;TZID=UTC:20231010T120000
DTSTAMP:20260423T205357
CREATED:20230928T150441Z
LAST-MODIFIED:20231005T165802Z
UID:718-1696924800-1696939200@www.villageofmannsville.com
SUMMARY:LAST DAY of brush pickup
DESCRIPTION:Clarification for brush pick-up… \n\n\n\nLast day for brush pick up (ie. branches\, sticks\, etc) will be Monday October 10th. We will continue to pick up bagged leaves until Monday October 30th. Bagged leaves MUST be in clear bags. \n\n\n\n \n\n\n\nplease have all brush out by the road by 8am Tuesday October 10th for the last brush pickup. After this date\, you are responsible for brush disposal.
URL:https://www.villageofmannsville.com/event/last-day-of-brush-pickup/
END:VEVENT
BEGIN:VEVENT
DTSTART;TZID=UTC:20231009T080000
DTEND;TZID=UTC:20231009T170000
DTSTAMP:20260423T205357
CREATED:20230828T134152Z
LAST-MODIFIED:20230828T134154Z
UID:715-1696838400-1696870800@www.villageofmannsville.com
SUMMARY:Closed Columbus & Indigenous Peoples Day
DESCRIPTION:
URL:https://www.villageofmannsville.com/event/closed-columbus-indigenous-peoples-day/
END:VEVENT
BEGIN:VEVENT
DTSTART;TZID=UTC:20230918T080000
DTEND;TZID=UTC:20230922T170000
DTSTAMP:20260423T205357
CREATED:20230828T134047Z
LAST-MODIFIED:20230828T134049Z
UID:713-1695024000-1695402000@www.villageofmannsville.com
SUMMARY:Closed for Training
DESCRIPTION:Paula and Sarah will be attending the NYCOM conference for training. The office will be closed for the week.
URL:https://www.villageofmannsville.com/event/closed-for-training/
END:VEVENT
BEGIN:VEVENT
DTSTART;TZID=UTC:20230904T080000
DTEND;TZID=UTC:20230904T170000
DTSTAMP:20260423T205357
CREATED:20230828T133933Z
LAST-MODIFIED:20230828T133935Z
UID:711-1693814400-1693846800@www.villageofmannsville.com
SUMMARY:Closed Labor Day
DESCRIPTION:
URL:https://www.villageofmannsville.com/event/closed-labor-day/
END:VEVENT
END:VCALENDAR