BEGIN:VCALENDAR
VERSION:2.0
PRODID:-//Village of Mannsville - ECPv6.15.20//NONSGML v1.0//EN
CALSCALE:GREGORIAN
METHOD:PUBLISH
X-WR-CALNAME:Village of Mannsville
X-ORIGINAL-URL:https://www.villageofmannsville.com
X-WR-CALDESC:Events for Village of Mannsville
REFRESH-INTERVAL;VALUE=DURATION:PT1H
X-Robots-Tag:noindex
X-PUBLISHED-TTL:PT1H
BEGIN:VTIMEZONE
TZID:UTC
BEGIN:STANDARD
TZOFFSETFROM:+0000
TZOFFSETTO:+0000
TZNAME:UTC
DTSTART:20210101T000000
END:STANDARD
END:VTIMEZONE
BEGIN:VEVENT
DTSTART;TZID=UTC:20230110T190000
DTEND;TZID=UTC:20230110T210000
DTSTAMP:20260425T124458
CREATED:20230103T141447Z
LAST-MODIFIED:20230103T141450Z
UID:621-1673377200-1673384400@www.villageofmannsville.com
SUMMARY:January Meeting
DESCRIPTION:Janaury meeting scheduled for January 3rd is postponed until Janaury 10th
URL:https://www.villageofmannsville.com/event/january-meeting/
END:VEVENT
BEGIN:VEVENT
DTSTART;TZID=UTC:20230102T090000
DTEND;TZID=UTC:20230102T140000
DTSTAMP:20260425T124458
CREATED:20221212T141609Z
LAST-MODIFIED:20221212T141611Z
UID:614-1672650000-1672668000@www.villageofmannsville.com
SUMMARY:Office Closed- New Years observed
DESCRIPTION:Office Closed for New Years Day observed
URL:https://www.villageofmannsville.com/event/office-closed-new-years-observed/
END:VEVENT
BEGIN:VEVENT
DTSTART;TZID=UTC:20221226T090000
DTEND;TZID=UTC:20221226T140000
DTSTAMP:20260425T124458
CREATED:20221212T141412Z
LAST-MODIFIED:20221212T141647Z
UID:611-1672045200-1672063200@www.villageofmannsville.com
SUMMARY:Office Closed- Christmas Day observed
DESCRIPTION:Office Closed for Christmas Day observed
URL:https://www.villageofmannsville.com/event/611/
END:VEVENT
BEGIN:VEVENT
DTSTART;VALUE=DATE:20221124
DTEND;VALUE=DATE:20221125
DTSTAMP:20260425T124458
CREATED:20221122T184859Z
LAST-MODIFIED:20221122T185224Z
UID:597-1669248000-1669334399@www.villageofmannsville.com
SUMMARY:Closed for Thanksgiving
DESCRIPTION:
URL:https://www.villageofmannsville.com/event/closed-for-thanksgiving/
END:VEVENT
END:VCALENDAR