BEGIN:VCALENDAR
VERSION:2.0
PRODID:-//Village of Mannsville - ECPv6.15.20//NONSGML v1.0//EN
CALSCALE:GREGORIAN
METHOD:PUBLISH
X-ORIGINAL-URL:https://www.villageofmannsville.com
X-WR-CALDESC:Events for Village of Mannsville
REFRESH-INTERVAL;VALUE=DURATION:PT1H
X-Robots-Tag:noindex
X-PUBLISHED-TTL:PT1H
BEGIN:VTIMEZONE
TZID:UTC
BEGIN:STANDARD
TZOFFSETFROM:+0000
TZOFFSETTO:+0000
TZNAME:UTC
DTSTART:20220101T000000
END:STANDARD
END:VTIMEZONE
BEGIN:VEVENT
DTSTART;TZID=UTC:20230703T080000
DTEND;TZID=UTC:20230704T170000
DTSTAMP:20260425T181640
CREATED:20230602T134824Z
LAST-MODIFIED:20230602T134826Z
UID:683-1688371200-1688490000@www.villageofmannsville.com
SUMMARY:Closed July 3rd & July 4th
DESCRIPTION:Office will be closed Monday July 3rd and Tuesday July 4th for the Holiday
URL:https://www.villageofmannsville.com/event/closed-july-3rd-july-4th/
END:VEVENT
BEGIN:VEVENT
DTSTART;TZID=UTC:20230711T190000
DTEND;TZID=UTC:20230711T203000
DTSTAMP:20260425T181640
CREATED:20230512T130340Z
LAST-MODIFIED:20230512T130341Z
UID:666-1689102000-1689107400@www.villageofmannsville.com
SUMMARY:July Board Meeting
DESCRIPTION:This is the second Tuesday of the month bc of July 4th.
URL:https://www.villageofmannsville.com/event/july-board-meeting/
END:VEVENT
END:VCALENDAR