BEGIN:VCALENDAR
VERSION:2.0
PRODID:-//Village of Mannsville - ECPv6.15.20//NONSGML v1.0//EN
CALSCALE:GREGORIAN
METHOD:PUBLISH
X-ORIGINAL-URL:https://www.villageofmannsville.com
X-WR-CALDESC:Events for Village of Mannsville
REFRESH-INTERVAL;VALUE=DURATION:PT1H
X-Robots-Tag:noindex
X-PUBLISHED-TTL:PT1H
BEGIN:VTIMEZONE
TZID:UTC
BEGIN:STANDARD
TZOFFSETFROM:+0000
TZOFFSETTO:+0000
TZNAME:UTC
DTSTART:20240101T000000
END:STANDARD
END:VTIMEZONE
BEGIN:VEVENT
DTSTART;TZID=UTC:20251206T160000
DTEND;TZID=UTC:20251206T183000
DTSTAMP:20260423T231656
CREATED:20251113T154201Z
LAST-MODIFIED:20251113T154201Z
UID:996-1765036800-1765045800@www.villageofmannsville.com
SUMMARY:Christmas Celebration
DESCRIPTION:Village Christmas Celebration and tree lighting.
URL:https://www.villageofmannsville.com/event/christmas-celebration-2/
END:VEVENT
BEGIN:VEVENT
DTSTART;TZID=UTC:20251224T080000
DTEND;TZID=UTC:20251226T170000
DTSTAMP:20260423T231656
CREATED:20251113T153113Z
LAST-MODIFIED:20251113T153113Z
UID:992-1766563200-1766768400@www.villageofmannsville.com
SUMMARY:Closed for Christmas
DESCRIPTION:
URL:https://www.villageofmannsville.com/event/closed-for-christmas-2/
END:VEVENT
END:VCALENDAR